Workbook
Name AN: [1]Data!$IB$400
Name AP: [1]Data!$IB$376
Name AR: [1]Data!$IB$404
Name AS: [1]Data!$IB$406
Name BR: [1]Data!$IB$384
Name CH: [1]Data!$IB$399
Name COUNTRY: OFFSET(Table2[[#Headers],[Country]],1,0,COUNTA(WorldMap!$A:$A)-1,1)
Name CT: [1]Data!$IB$383
Name DD: [1]Data!$IB$401
Name DL: [1]Data!$IB$402
Name DN: [1]Data!$IB$407
Name GJ: [1]Data!$IB$381
Name GO: [1]Data!$IB$378
Name HP: [1]Data!$IB$388
Name HR: [1]Data!$IB$387
Name JH: [1]Data!$IB$385
Name JK: [1]Data!$IB$389
Name KA: [1]Data!$IB$375
Name KL: [1]Data!$IB$374
Name LD: [1]Data!$IB$403
Name MH: [1]Data!$IB$380
Name ML: [1]Data!$IB$391
Name MN: [1]Data!$IB$390
Name MP: [1]Data!$IB$382
Name MZ: [1]Data!$IB$392
Name NL: [1]Data!$IB$393
Name OD: [1]Data!$IB$379
Name OIL: OFFSET(Table2[[#Headers],[Oil Production in thousands of barrels per day]],1,0,COUNTA(WorldMap!$A:$A)-1,1)
Name PB: [1]Data!$IB$394
Name PD: [1]Data!$IB$377
Name RJ: [1]Data!$IB$386
Name SK: [1]Data!$IB$395
Name Slicer_Region: #N/A
Name TE: [1]Data!$IB$408
Name TN: [1]Data!$IB$373
Name TR: [1]Data!$IB$396
Name UP: [1]Data!$IB$397
Name UT: [1]Data!$IB$405
Name WB: [1]Data!$IB$398

Sheet exped
A1: Transid | B1: Date | C1: Place | D1: Product | E1: Display | F1: QUANTITY | G1: REVENUE
A2: 1 | B2: 36128 | C2: Paris | D2: Exploring in 10 Easy Lessons | E2: Store | F2: 4 | G2: 80
A3: 2 | B3: 36087 | C3: London | D3: Camel saddle | E3: Catalog | F3: 3 | G3: 1794
A4: 3 | B4: 36105 | C4: Paris | D4: Compass | E4: Store | F4: 2 | G4: 16
A5: 4 | B5: 36003 | C5: London | D5: Geo positioning system | E5: Store | F5: 3 | G5: 885
A6: 5 | B6: 36011 | C6: Paris | D6: Hammock | E6: Store | F6: 3 | G6: 165
A7: 6 | B7: 36013 | C7: Paris | D7: Camel saddle | E7: Store | F7: 2 | G7: 1196
A8: 7 | B8: 35972 | C8: Paris | D8: Geo positioning system | E8: Store | F8: 2 | G8: 590
A9: 8 | B9: 35925 | C9: London | D9: Geo positioning system | E9: Store | F9: 5 | G9: 1475
A10: 9 | B10: 36101 | C10: Paris | D10: Hammock | E10: Store | F10: 3 | G10: 165
A11: 10 | B11: 36086 | C11: London | D11: Camel saddle | E11: Catalog | F11: 4 | G11: 2392
A12: 11 | B12: 35991 | C12: London | D12: Boots - snakeproof | E12: Store | F12: 2 | G12: 190
A13: 12 | B13: 36051 | C13: Paris | D13: Geo positioning system | E13: Store | F13: 2 | G13: 590
... A1001: 1000 | B1001: 35998 | C1001: New York | D1001: Boots - snakeproof | E1001: Web | F1001: 4 | G1001: 380

Sheet Emp
A1: EmpID | B1: Full Name | C1: Supervisor | D1: Company | E1: Date Hired | F1: Yrs Service | G1: Dept Code | H1: Type | I1: Region | J1: City | K1: State | L1: Postal | M1: Country | N1: Email
A2: 1 | B2: Akyuz,Aaron Spencer | C2: Flores,John Markham | D2: Marsh | E2: 33285 | F2: =(TODAY()-E2)/365.25 -> 34.96783 | G2: CTI302 | H2: E | I2: EMEA | J2: Edinburgh | L2: EH3 9EP | M2: United Kingdom | N2: aaron.spencer.akyuz@marsh.com
A3: 2 | B3: Anderson,Abdrahman | C3: Kelly,Daniel | D3: Guy Carpenter | E3: 35765 | F3: =(TODAY()-E3)/365.25 -> 28.17796 | G3: CTI302 | H3: E | I3: Americas | J3: New York | K3: NY | L3: 10036-2708 | M3: United States | N3: abdrahman.anderson@guycarp.com
A4: 3 | B4: Ashoka,Abhishek | C4: Kelly,Daniel | D4: Guy Carpenter | E4: 36819 | F4: =(TODAY()-E4)/365.25 -> 25.292266 | G4: CTI302 | H4: E | I4: EMEA | J4: Tallinn | M4: Estonia | N4: abhishek.ashoka@guycarp.com
A5: 4 | B5: Childs,Adam | C5: Lenton,Samuel | D5: Mercer | E5: 36759 | F5: =(TODAY()-E5)/365.25 -> 25.456537 | G5: CTI302 | H5: N | I5: EMEA | J5: Yerwada | L5: 411006 | M5: India | N5: adam.childs@mercer.com
A6: 5 | B6: Earnhardt,Adam T. | C6: Lenton,Samuel | D6: Marsh | E6: 35367 | F6: =(TODAY()-E6)/365.25 -> 29.267625 | G6: CTI331 | H6: E | I6: EMEA | J6: Melbourne | K6: VIC | L6: 3000 | M6: Australia | N6: adam.t.earnhardt@marsh.com
A7: 6 | B7: Foley,Alain | C7: Flores,John Markham | D7: Mercer | E7: 36722 | F7: =(TODAY()-E7)/365.25 -> 25.557837 | G7: CTI302 | H7: E | I7: Americas | J7: Hamilton | L7: HM12 | M7: Bermuda | N7: alain.foley@mercer.com
A8: 7 | B8: Kumar,Aldo | C8: Kelly,Daniel | D8: Marsh | E8: 36760 | F8: =(TODAY()-E8)/365.25 -> 25.453799 | G8: CTI302 | H8: E | I8: EMEA | J8: Manama | M8: Bahrain | N8: aldo.kumar@marsh.com
A9: 8 | B9: LeCompte,Alexander T | C9: Cruz,Kathleen M | D9: Oliver Wyman Group | E9: 35809 | F9: =(TODAY()-E9)/365.25 -> 28.057495 | G9: D08708 | H9: E | I9: EMEA | J9: Cape Town | L9: 8000 | M9: South Africa | N9: alexander.t.lecompte@oliverwyman.com
A10: 9 | B10: Marcuse,Alexandre Penha | C10: Flores,John Markham | D10: Guy Carpenter | E10: 35856 | F10: =(TODAY()-E10)/365.25 -> 27.928816 | G10: CTI302 | H10: E | I10: Asia Pacific | J10: Sydney | K10: NSW | L10: 2000 | M10: Australia | N10: alexandre.penha.marcuse@guycarp.com
A11: 10 | B11: Olson,Alexey | C11: Lenton,Samuel | D11: Marsh | E11: 36725 | F11: =(TODAY()-E11)/365.25 -> 25.549624 | G11: CTI302 | H11: E | I11: Americas | J11: Hoboken | K11: NJ | L11: 07030-5792 | M11: United States | N11: alexey.olson@marsh.com
A12: 11 | B12: Padmanabhan,Andrew | C12: Kelly,Daniel | D12: Marsh | E12: 35890 | F12: =(TODAY()-E12)/365.25 -> 27.835729 | G12: CTI302 | H12: E | I12: EMEA | J12: Madrid | L12: 28046 | M12: Spain | N12: andrew.padmanabhan@marsh.com
A13: 12 | B13: Philip,Andrew D | D13: Marsh | E13: 36731 | F13: =(TODAY()-E13)/365.25 -> 25.533196 | G13: CTI331 | H13: E | I13: Americas | J13: Sao Paulo | L13: 04583-904 | M13: Brazil | N13: andrew.d.philip@marsh.com
A14: 13 | B14: Rajendran,Anil | C14: Flores,John Markham | D14: Marsh | E14: 35862 | F14: =(TODAY()-E14)/365.25 -> 27.912389 | G14: CTI302 | H14: N | I14: EMEA | J14: Riyadh | L14: 11583 | M14: Saudi Arabia | N14: anil.rajendran@marsh.com
A15: 14 | B15: Thangavelu,Anthony Vaughan | C15: Kelly,Daniel | D15: Marsh | E15: 35838 | F15: =(TODAY()-E15)/365.25 -> 27.978097 | G15: CTI302 | H15: E | I15: EMEA | J15: London | L15: W1U 8EW | M15: United Kingdom | N15: anthony.vaughan.thangavelu@marsh.com
A16: 15 | B16: Trivedi,Anupama | C16: Flores,John Markham | D16: Marsh | E16: 36752 | F16: =(TODAY()-E16)/365.25 -> 25.475702 | G16: CTI302 | H16: E | I16: EMEA | J16: London | L16: EC3R 5BU | M16: United Kingdom | N16: anupama.trivedi@marsh.com
A17: 16 | B17: Trotter,Arethea Y | C17: Flores,John Markham | D17: Mercer | E17: 36816 | F17: =(TODAY()-E17)/365.25 -> 25.300479 | G17: CTI302 | H17: N | I17: EMEA | J17: London | L17: EC3R 5BU | M17: United Kingdom | N17: arethea.y.trotter@mercer.com
A18: 17 | B18: Vashishtha,Arun | C18: Flores,John Markham | D18: Marsh | E18: 33778 | F18: =(TODAY()-E18)/365.25 -> 33.61807 | G18: CTI302 | H18: E | I18: Asia Pacific | J18: Kuala Lumpur | L18: 59000 | M18: Malaysia | N18: arun.vashishtha@marsh.com
A19: 18 | B19: Adams,Augustine C. | C19: Smith,Ellen | D19: Corporate | E19: 36732 | F19: =(TODAY()-E19)/365.25 -> 25.530459 | G19: CTI316 | H19: E | I19: Americas | J19: Austin | K19: TX | L19: 78759 | M19: United States | N19: augustine.c.adams@mmc.com
A20: 19 | B20: Andrew,Augustus M | C20: Khator,Daniel M | D20: Oliver Wyman Group | E20: 34063 | F20: =(TODAY()-E20)/365.25 -> 32.837782 | G20: 51392 | H20: E | I20: Americas | J20: King of Prussia | K20: PA | L20: 19406 | M20: United States | N20: augustus.m.andrew@oliverwyman.com
A21: 20 | B21: Arms,Balaji | C21: Smith,Ellen | D21: Mercer | E21: 36739 | F21: =(TODAY()-E21)/365.25 -> 25.511294 | G21: CTI319 | H21: E | I21: EMEA | J21: Espoo | L21: 2170 | M21: Finland | N21: balaji.arms@mercer.com
A22: 21 | B22: Bacon,Borja | C22: Stergiou,Omar Farooq | D22: Mercer | E22: 36408 | F22: =(TODAY()-E22)/365.25 -> 26.417522 | G22: 51392 | H22: E | I22: EMEA | J22: Espoo | L22: 2170 | M22: Finland | N22: borja.bacon@mercer.com
A23: 22 | B23: Baker,Brian | C23: Gildea,Christine | D23: Mercer | E23: 36753 | F23: =(TODAY()-E23)/365.25 -> 25.472964 | G23: D08709 | H23: E | I23: Americas | J23: Winnipeg | K23: MB | L23: R3B 0X3 | M23: Canada | N23: brian.baker@mercer.com
A24: 23 | B24: Battula,Brian | C24: Sharma,Elizabeth B | D24: Marsh | E24: 35835 | F24: =(TODAY()-E24)/365.25 -> 27.986311 | G24: CTI316 | H24: E | I24: Asia Pacific | J24: London | L24: EC3R 5BU | M24: United Kingdom | N24: brian.battula@marsh.com
A25: 24 | B25: Bellanti,Brian T | C25: Sharma,Elizabeth B | D25: Marsh | E25: 35900 | F25: =(TODAY()-E25)/365.25 -> 27.80835 | G25: CTI316 | H25: N | I25: Americas | J25: Bogota | M25: Colombia | N25: brian.t.bellanti@marsh.com
A26: 25 | B26: Brunaccini,Bunyamin | C26: Sharma,Elizabeth B | D26: Marsh | E26: 34056 | F26: =(TODAY()-E26)/365.25 -> 32.856947 | G26: CTI316 | H26: E | I26: EMEA | J26: Frankfurt | L26: 60528 | M26: Germany | N26: bunyamin.brunaccini@marsh.com
A27: 26 | B27: Burg,Calvin | C27: Smith,Ellen | D27: Marsh | E27: 36775 | F27: =(TODAY()-E27)/365.25 -> 25.412731 | G27: K70784 | H27: E | I27: EMEA | J27: Rotterdam | L27: 3013AP | M27: Netherlands | N27: calvin.burg@marsh.com
A28: 27 | B28: Cam,Heloise E | C28: Sharma,Elizabeth B | D28: Mercer | E28: 35767 | F28: =(TODAY()-E28)/365.25 -> 28.172485 | G28: CTI320 | H28: E | I28: Americas | J28: Bogota | M28: Colombia | N28: catherine.e.cam@mercer.com
A29: 28 | B29: Chung,Chandresh | C29: Smith,Ellen | D29: Mercer | E29: 35831 | F29: =(TODAY()-E29)/365.25 -> 27.997262 | G29: 52687 | H29: E | I29: EMEA | J29: London | L29: W1U 8EW | M29: United Kingdom | N29: chandresh.chung@mercer.com
A30: 29 | B30: Dhadwal,Chau | C30: Gildea,Christine | D30: Mercer | E30: 36782 | F30: =(TODAY()-E30)/365.25 -> 25.393566 | G30: CTI320 | H30: E | I30: Americas | J30: Hayward | K30: WI | L30: 54843 | M30: United States | N30: chau.dhadwal@mercer.com
A31: 30 | B31: Dutta,Chris | C31: Gildea,Christine | D31: Marsh | E31: 36738 | F31: =(TODAY()-E31)/365.25 -> 25.514031 | G31: CTI316 | H31: E | I31: EMEA | J31: Poznan | L31: PL61771 | M31: Poland | N31: chris.dutta@marsh.com
A32: 31 | B32: Genberg,Chrisovalandis | C32: Stergiou,Omar Farooq | D32: Oliver Wyman Group | E32: 36742 | F32: =(TODAY()-E32)/365.25 -> 25.50308 | G32: CTI334 | H32: E | I32: Asia Pacific | J32: Bangkok | L32: 10120 | M32: Thailand | N32: chrisovalandis.genberg@oliverwyman.com
A33: 32 | B33: Gildea,Christine | C33: Gildea,Christine | D33: Marsh | E33: 36720 | F33: =(TODAY()-E33)/365.25 -> 25.563313 | G33: CTI316 | H33: E | I33: Asia Pacific | J33: Melbourne | K33: VIC | L33: 3000 | M33: Australia | N33: christine.gildea@marsh.com
A34: 33 | B34: Gmoser,Christopher D | C34: Khator,Daniel M | D34: Mercer | E34: 34831 | F34: =(TODAY()-E34)/365.25 -> 30.735113 | G34: DEU240 | H34: E | I34: Americas | J34: Seattle | K34: WA | L34: 98101 | M34: United States | N34: christopher.d.gmoser@mercer.com
A35: 34 | B35: Gosain,C-John | C35: Gildea,Christine | D35: Corporate | E35: 35790 | F35: =(TODAY()-E35)/365.25 -> 28.109514 | G35: CTI316 | H35: E | I35: Americas | J35: Kitchener | K35: ON | L35: N2G 2W1 | M35: Canada | N35: c-john.gosain@mmc.com
A36: 35 | B36: Gupta,Clayton | C36: Khator,Daniel M | D36: Marsh | E36: 35871 | F36: =(TODAY()-E36)/365.25 -> 27.887748 | G36: CTI316 | H36: N | I36: Americas | J36: Los Angeles | K36: CA | L36: 90017-5822 | M36: United States | N36: clayton.gupta@marsh.com
A37: 36 | B37: Hadley,Clinton | C37: Gildea,Christine | D37: Corporate | E37: 35814 | F37: =(TODAY()-E37)/365.25 -> 28.043806 | G37: MX0144 | H37: E | I37: Americas | J37: Sao Paulo | L37: 04583-904 | M37: Brazil | N37: clinton.hadley@mmc.com
A38: 37 | B38: Hicks,Cody Elwood | C38: Bryant,Ivan | D38: Mercer | E38: 35352 | F38: =(TODAY()-E38)/365.25 -> 29.308693 | G38: 51233 | H38: E | I38: EMEA | J38: Tunis | L38: 1002 | M38: Tunisia | N38: cody.elwood.hicks@mercer.com
A39: 38 | B39: Isoor,Colette | C39: Gildea,Christine | D39: Marsh | E39: 34836 | F39: =(TODAY()-E39)/365.25 -> 30.721424 | G39: CTI316 | H39: E | I39: EMEA | J39: Manama | M39: Bahrain | N39: colette.isoor@marsh.com
A40: 39 | B40: Jackson,Corey | C40: Khator,Daniel M | D40: Mercer | E40: 36741 | F40: =(TODAY()-E40)/365.25 -> 25.505818 | G40: CTI319 | H40: E | I40: EMEA | J40: Cairo | L40: 12411 | M40: Egypt | N40: corey.jackson@mercer.com
...

Sheet Cond Formating exercise
B1: Data Bars | C1: Color Scales | D1: Icon Sets | E1: Below Average | F1: Color Highlight | G1: Color Highlight
A2: Name | B2: Achievement | C2: Achievement | D2: Achievement | E2: Achievement | F2: Rank | G2: Status | M2: Project | N2: Status
A3: Amarjeet Singh | B3: 82 | C3: =$B3 -> 82 | D3: =$B3 -> 82 | E3: =$B3 -> 82 | F3: =RANK(B3,$B$3:$B$17) -> 5 | G3: =IF(B3>=80,"A",IF(B3>=50,"B","C")) -> A | I3: RANK | M3: Project 1 | N3: Completed
A4: Sachin Kumar Sharma | B4: 56 | C4: =$B4 -> 56 | D4: =$B4 -> 56 | E4: =$B4 -> 56 | F4: =RANK(B4,$B$3:$B$17) -> 10 | G4: =IF(B4>=80,"A",IF(B4>=50,"B","C")) -> B | I4: >10 | J4: red | M4: Project 2 | N4: Not Started
A5: Mohit Malik | B5: 10 | C5: =$B5 -> 10 | D5: =$B5 -> 10 | E5: =$B5 -> 10 | F5: =RANK(B5,$B$3:$B$17) -> 15 | G5: =IF(B5>=80,"A",IF(B5>=50,"B","C")) -> C | I5: 5-10 | J5: yellow | M5: Project 3 | N5: Completed
A6: Deepak Sharma | B6: 94 | C6: =$B6 -> 94 | D6: =$B6 -> 94 | E6: =$B6 -> 94 | F6: =RANK(B6,$B$3:$B$17) -> 4 | G6: =IF(B6>=80,"A",IF(B6>=50,"B","C")) -> A | I6: <5 | J6: green | M6: Project 4 | N6: Inprogress
A7: Kratika Bhatnagar | B7: 100 | C7: =$B7 -> 100 | D7: =$B7 -> 100 | E7: =$B7 -> 100 | F7: =RANK(B7,$B$3:$B$17) -> 1 | G7: =IF(B7>=80,"A",IF(B7>=50,"B","C")) -> A | M7: Project 5 | N7: Inprogress
A8: Gaurav Khanna | B8: 12 | C8: =$B8 -> 12 | D8: =$B8 -> 12 | E8: =$B8 -> 12 | F8: =RANK(B8,$B$3:$B$17) -> 14 | G8: =IF(B8>=80,"A",IF(B8>=50,"B","C")) -> C | J8: Achievement | M8: Project 6 | N8: Not Started
A9: Asif Khan | B9: 49 | C9: =$B9 -> 49 | D9: =$B9 -> 49 | E9: =$B9 -> 49 | F9: =RANK(B9,$B$3:$B$17) -> 12 | G9: =IF(B9>=80,"A",IF(B9>=50,"B","C")) -> C | I9: 100 | J9: >=80 | M9: Project 7 | N9: Inprogress
A10: Ajaj Kumar Rana | B10: 98 | C10: =$B10 -> 98 | D10: =$B10 -> 98 | E10: =$B10 -> 98 | F10: =RANK(B10,$B$3:$B$17) -> 2 | G10: =IF(B10>=80,"A",IF(B10>=50,"B","C")) -> A | I10: 70 | J10: <80 and >=60 | M10: Project 8 | N10: Not Started
A11: Aakash Bhutani | B11: 14 | C11: =$B11 -> 14 | D11: =$B11 -> 14 | E11: =$B11 -> 14 | F11: =RANK(B11,$B$3:$B$17) -> 13 | G11: =IF(B11>=80,"A",IF(B11>=50,"B","C")) -> C | I11: 10 | J11: <60 | M11: Project 9
A12: Praveen Sharma | B12: 98 | C12: =$B12 -> 98 | D12: =$B12 -> 98 | E12: =$B12 -> 98 | F12: =RANK(B12,$B$3:$B$17) -> 2 | G12: =IF(B12>=80,"A",IF(B12>=50,"B","C")) -> A | M12: Project 10
A13: Ravi Ranjan | B13: 55 | C13: =$B13 -> 55 | D13: =$B13 -> 55 | E13: =$B13 -> 55 | F13: =RANK(B13,$B$3:$B$17) -> 11 | G13: =IF(B13>=80,"A",IF(B13>=50,"B","C")) -> B | J13: Status | M13: Project 11
A14: Vivek Pant | B14: 78 | C14: =$B14 -> 78 | D14: =$B14 -> 78 | E14: =$B14 -> 78 | F14: =RANK(B14,$B$3:$B$17) -> 6 | G14: =IF(B14>=80,"A",IF(B14>=50,"B","C")) -> B | J14: A
A15: Pallavi Srivastava | B15: 57 | C15: =$B15 -> 57 | D15: =$B15 -> 57 | E15: =$B15 -> 57 | F15: =RANK(B15,$B$3:$B$17) -> 8 | G15: =IF(B15>=80,"A",IF(B15>=50,"B","C")) -> B | J15: B
A16: Anoop Kumar Singh | B16: 69 | C16: =$B16 -> 69 | D16: =$B16 -> 69 | E16: =$B16 -> 69 | F16: =RANK(B16,$B$3:$B$17) -> 7 | G16: =IF(B16>=80,"A",IF(B16>=50,"B","C")) -> B | J16: C
A17: Shivam Kumar Gupta | B17: 57 | C17: =$B17 -> 57 | D17: =$B17 -> 57 | E17: =$B17 -> 57 | F17: =RANK(B17,$B$3:$B$17) -> 8 | G17: =IF(B17>=80,"A",IF(B17>=50,"B","C")) -> B

Sheet Sales Descriptive Analytic
A1: Date | B1: Region | C1: Sales Rep | D1: Customer | E1: Product | F1: COGS | G1: Sales
A2: 38447 | B2: NorthEast | C2: Chin | D2: Nature Company | E2: HLL Item | F2: 4007.9864 | G2: 4554.53
A3: 38646 | B3: North | C3: Chin | D3: Yahoo | E3: WKL Item | F3: 8597.4559 | G3: 9195.14 | O3: Descriptive Analytics – What happened?
A4: 38377 | B4: MidWest | C4: Chin | D4: Sherman Williams | E4: BPZ Item | F4: 3148.5256 | G4: 3577.87
A5: 38463 | B5: MidWest | C5: Chin | D5: Nature Company | E5: CSJ Item | F5: 731.8193 | G5: 1977.89 | O5: Purpose:
A6: 38412 | B6: NorthEast | C6: Chin | D6: Home Depot | E6: AUW Item | F6: 2741.958 | G6: 6093.24 | O6: Summarize historical data
A7: 38426 | B7: NorthEast | C7: Chin | D7: Amazon.com | E7: KEI Item | F7: 3491.8709 | G7: 8120.63
A8: 38401 | B8: MidWest | C8: Chin | D8: Whole Foods | E8: FKD Item | F8: 2924.2365 | G8: 6800.55
A9: 38155 | B9: MidWest | C9: Chin | D9: ExcelIsVeryFun.com | E9: MWN Item | F9: 6305.0008 | G9: 9272.06
A10: 38326 | B10: West | C10: Chin | D10: Yahoo | E10: HAI Item | F10: 2640.132 | G10: 4800.24
A11: 38472 | B11: North | C11: Chin | D11: Google | E11: WPF Item | F11: 2401.7329 | G11: 6491.17
A12: 38676 | B12: North | C12: Chin | D12: Home Depot | E12: FEK Item | F12: 1531.2128 | G12: 3560.96
A13: 38632 | B13: North | C13: Chin | D13: Sherman Williams | E13: XNB Item | F13: 3464.637 | G13: 6299.34
A14: 38428 | B14: NorthEast | C14: Chin | D14: Costco | E14: YWP Item | F14: 558.2475 | G14: 1298.25
A15: 38611 | B15: West | C15: Chin | D15: Amazon.com | E15: LOP Item | F15: 266.3024 | G15: 451.36
A16: 38816 | B16: SouthEast | C16: Chin | D16: Peet's Coffee | E16: UXD Item | F16: 2647.4332 | G16: 4564.54
A17: 38763 | B17: NorthEast | C17: Chin | D17: Costco | E17: TGL Item | F17: 58.7597 | G17: 158.81
A18: 38178 | B18: North | C18: Chin | D18: Yahoo | E18: RCA Item | F18: 1904.6734 | G18: 3228.26
... A301: 38612 | B301: NorthEast | C301: Troung | D301: Office Depot | E301: TUL Item | F301: 2918.628 | G301: 6485.84

Sheet Diagnostics Analytics 
X2: Diagnostic Analytics – Why did it happen?
C3: Year | D3: New Customers | E3: Revinue
C4: 2010 | D4: 100 | E4: 30000 | X4: You go one step deeper to find reasons and patterns.
C5: 2011 | D5: 120 | E5: 35000
C6: 2012 | D6: 130 | E6: 30000 | X6: Excel tools used:
C7: 2013 | D7: 134 | E7: 40000
C8: 2014 | D8: 120 | E8: 71118 | X8: Pivot Tables with slicers
C9: 2015 | D9: 160 | E9: 65000 | X9: COUNTIF, SUMIF, AVERAGEIF
C10: 2016 | D10: 170 | E10: 72896 | X10: Conditional Formatting
C11: 2017 | D11: 130 | E11: 80000 | X11: Filters & Subtotals
C12: 2018 | D12: 120 | E12: 28000
C13: 2019 | D13: 100 | E13: 26000 | X13: Example:
C14: 2020 | D14: 90 | E14: 20000
C15: 2021 | D15: 100 | E15: 20103 | X15: Why sales dropped in one region
C16: 2022 | D16: 100 | E16: 18000
X17: Which vendor caused cost overruns
X19: Which month has the highest cancellations

Sheet Predictive analytics Forcast
A1: Year | B1: Sales
A2: 2010 | B2: 12000 | F2: •What is likely to happen (Future) | S2: Year | T2: Desktop | U2: Laptop | V2: Tablet | AI2: Predictive Analytics – What is likely to happen?
A3: 2011 | B3: 31682 | S3: 2010 | T3: 100000 | U3: 30000 | V3: 13000
A4: 2012 | B4: 34000 | S4: 2011 | T4: 80000 | U4: 35000 | V4: 15000 | AI4: Excel can do basic forecasting, even without advanced tools.
A5: 2013 | B5: 49812 | S5: 2012 | T5: 70000 | U5: 30000 | V5: 18000
A6: 2014 | B6: 20357 | S6: 2013 | T6: 50000 | U6: 40000 | V6: 35000 | AI6: Excel tools used:
A7: 2015 | B7: 42189 | S7: 2014 | T7: 40000 | U7: 71118 | V7: 45000
A8: 2016 | B8: 27545 | S8: 2015 | T8: 35000 | U8: 65000 | V8: 40000 | AI8: TREND / FORECAST functions
A9: 2017 | B9: 23127 | S9: 2016 | T9: 30000 | U9: 72896 | V9: 70000 | AI9: Forecast Sheet
A10: 2018 | B10: 46217 | S10: 2017 | T10: 28000 | U10: 65000 | V10: 80000 | AI10: Line charts
A11: 2019 | B11: 45000 | S11: 2018 | T11: 26000 | U11: 64705 | V11: 78000 | AI11: Example:
A12: 2020 | B12: 50000 | S12: 2019 | T12: 20000 | U12: 71704 | V12: 90000
A13: 2021 | B13: 55000 | S13: 2020 | T13: 20103 | U13: 66000 | V13: 120000 | AI13: Predict next quarter sales
A14: 2022 | B14: 60000 | S14: 2021 | T14: 18000 | U14: 70000 | V14: 130000 | AI14: Forecast apartment bookings
A15: 2023 | B15: 65000 | S15: 2022 | T15: 10000 | U15: 80000 | V15: 120000 | AI15: Estimate future expenses
A16: 2024 | B16: 70000
A17: 2025 | B17: 75000
A18: 2026
A19: 2027
A20: 2028
A21: 2029
A22: 2030

Sheet Employee Performance
A1: Emp Code | B1: Employee Name | C1: Department | D1: Region | E1: Basic | F1: Hire Date | G1: Performance Point | J1: Products | K1: Dispatch Date | L1: Qty
A2: S109 | B2: Michael Jones | C2: HR | D2: North | E2: 14000 | F2: 36321 | G2: 99 | J2: Product 1 | K2: 44967 | L2: 12
A3: S064 | B3: Roger Jones | C3: HR | D3: North | E3: 12000 | F3: 37865 | G3: 49 | J3: Product 2 | K3: 44968 | L3: 23
A4: S049 | B4: Jim Motts | C4: HR | D4: North | E4: 11000 | F4: 37408 | G4: 92 | J4: Product 3 | K4: 44969 | L4: 34
A5: S164 | B5: Luke Morris | C5: HR | D5: North | E5: 11000 | F5: 38397 | G5: 66 | J5: Product 4 | K5: 44968 | L5: 45
A6: S129 | B6: Rebecca Van Hof | C6: HR | D6: North | E6: 10000 | F6: 37907 | G6: 45 | J6: Product 5 | K6: 44972 | L6: 56
A7: S149 | B7: Mary Johnson | C7: HR | D7: North | E7: 10000 | F7: 38187 | G7: 97 | J7: Product 6 | K7: 44973 | L7: 67
A8: S029 | B8: Eleonora Morrell | C8: HR | D8: North | E8: 9900 | F8: 36800 | G8: 68 | J8: Product 7 | K8: 44975 | L8: 78
A9: S173 | B9: Jim Motts | C9: Admin | D9: North | E9: 9000 | F9: 38523 | G9: 94 | J9: Product 8 | K9: 44978 | L9: 89
A10: S153 | B10: Nancy Lee | C10: Admin | D10: North | E10: 4000 | F10: 38243 | G10: 57 | J10: Product 9 | K10: 44978 | L10: 100
A11: S073 | B11: Michael Morgan | C11: Admin | D11: North | E11: 9000 | F11: 38139 | G11: 89 | J11: Product 10 | K11: 44979 | L11: 111
A12: S053 | B12: Spencer Morgan | C12: Admin | D12: North | E12: 12500 | F12: 37530 | G12: 81 | J12: Product 11 | K12: 44979 | L12: 122
A13: S018 | B13: Adam Long | C13: Admin | D13: North | E13: 9900 | F13: 37045 | G13: 43 | J13: Product 12 | K13: 44980 | L13: 133
... A19: S177 | B19: Thomas lee | C19: Accts | D19: North | E19: 8500 | F19: 35512 | G19: 73 | J19: Product 18 | K19: 44986 | L19: 199
A20: S157 | B20: Jacob long | C20: Accts | D20: North | E20: 8000 | F20: 38299 | G20: 77
A21: S097 | B21: Shannon ryan | C21: Accts | D21: North | E21: 7600 | F21: 35956 | G21: 76
A22: S117 | B22: Jesse carter | C22: Accts | D22: North | E22: 6700 | F22: 37739 | G22: 63
A23: S016 | B23: Naveen mishra | C23: Accts | D23: North | E23: 6000 | F23: 37191 | G23: 80
A24: S197 | B24: Maureen marks | C24: Mktg | D24: North | E24: 9900 | F24: 36122 | G24: 92
A25: S181 | B25: James Roberts | C25: Mktg | D25: North | E25: 11500 | F25: 35634 | G25: 72
A26: S041 | B26: Jessica Roberts | C26: Mktg | D26: North | E26: 10000 | F26: 37165 | G26: 61
A27: S061 | B27: Shannon Kelly | C27: Mktg | D27: North | E27: 10000 | F27: 37773 | G27: 45
A28: S121 | B28: James Anderson | C28: Mktg | D28: North | E28: 10000 | F28: 37795 | G28: 68
A29: S161 | B29: Tina Bennet | C29: Mktg | D29: North | E29: 10000 | F29: 38355 | G29: 81
A30: S081 | B30: Jesse Light | C30: Mktg | D30: North | E30: 8000 | F30: 38384 | G30: 84
A31: S101 | B31: Annie Thomas | C31: Mktg | D31: North | E31: 4000 | F31: 36078 | G31: 62
... A169: S090 | B169: Minnie Jones | C169: Sales | D169: East | E169: 4000 | F169: 38657 | G169: 66

Sheet Waterfall_Data
A1: Category | B1: Amount (INR Lakhs)
A2: Opening Budget | B2: 500
A3: Land Acquisition Cost | B3: -150
A4: Design & Architecture Cost | B4: -40
A5: Approval & Legal Fees | B5: -20
A6: Material Cost | B6: -180
A7: Labor Cost | B7: -90
A8: Machinery & Equipment | B8: -30
A9: Unexpected Site Expenses | B9: -25
A10: Cost Savings (Bulk Purchase) | B10: 20
A11: Final Project Cost | B11: 0

Sheet Budget_vs_Actual
A1: Month | B1: Budget Cost (INR Lakhs) | C1: Actual Cost (INR Lakhs)
A2: Jan | B2: 40 | C2: 42
A3: Feb | B3: 45 | C3: 48
A4: Mar | B4: 50 | C4: 55
A5: Apr | B5: 60 | C5: 58
A6: May | B6: 70 | C6: 75
A7: Jun | B7: 80 | C7: 85
A8: Jul | B8: 90 | C8: 92
A9: Aug | B9: 100 | C9: 115
A10: Sep | B10: 95 | C10: 98
A11: Oct | B11: 85 | C11: 82
A12: Nov | B12: 70 | C12: 72
A13: Dec | B13: 65 | C13: 68

Sheet Fedback Point data
A1: Ecode | B1: First Name | C1: Last Name | D1: Feedback Point
A2: 1 | B2: Raja | C2: Ray | D2: 10
A3: 2 | B3: Kuldeep | C3: Sharma | D3: 6
A4: 3 | B4: Suman | C4: Shinde | D4: 7
A5: 4 | B5: Beena | C5: Mavadia | D5: 7
A6: 5 | B6: Seema | C6: Ranganathan | D6: 7
A7: 6 | B7: Deepak | C7: Jain | D7: 10
A8: 7 | B8: Julie | C8: D'Souza | D8: 5
A9: 8 | B9: Neena | C9: Mukherjee | D9: 6
A10: 9 | B10: Pankaj | C10: Sutradhar | D10: 7
A11: 10 | B11: Andre | C11: Fernendes | D11: 8
A12: 11 | B12: Sujay | C12: Madhrani | D12: 7
A13: 12 | B13: Shilpa | C13: Lele | D13: 5
... A101: 100 | B101: Rupesh | C101: Sawant | D101: 8

Sheet State Wise data
A1: State | B1: Population | C1: Rural population | D1: Urban population | E1: Sex ratio | L1: State | M1: Rural population | N1: Urban population
A2: Uttar Pradesh | B2: 199812341 | C2: 155317278 | D2: 44495063 | E2: 912 | L2: Uttar Pradesh | M2: 155317278 | N2: 44495063
A3: Maharashtra | B3: 112374333 | C3: 61556074 | D3: 50818259 | E3: 929 | L3: Maharashtra | M3: 61556074 | N3: 50818259
A4: Bihar | B4: 104099452 | C4: 92341436 | D4: 11758016 | E4: 918 | L4: Bihar | M4: 92341436 | N4: 11758016
A5: West Bengal | B5: 91276115 | C5: 62183113 | D5: 29093002 | E5: 953 | L5: West Bengal | M5: 62183113 | N5: 29093002
A6: Madhya Pradesh | B6: 72626809 | C6: 52557404 | D6: 20069405 | E6: 931 | L6: Madhya Pradesh | M6: 52557404 | N6: 20069405
A7: Tamil Nadu | B7: 72147030 | C7: 37229590 | D7: 34917440 | E7: 996 | L7: Tamil Nadu | M7: 37229590 | N7: 34917440
A8: Rajasthan | B8: 68548437 | C8: 51500352 | D8: 17048085 | E8: 928 | L8: Rajasthan | M8: 51500352 | N8: 17048085
A9: Karnataka | B9: 61095297 | C9: 30069335 | D9: 31025962 | E9: 979 | L9: Karnataka | M9: 30069335 | N9: 31025962
A10: Gujarat | B10: 60439692 | C10: 34694609 | D10: 25745083 | E10: 919 | L10: Gujarat | M10: 34694609 | N10: 25745083
A11: Andhra Pradesh | B11: 49577103 | C11: 34966693 | D11: 14610410 | E11: 993 | L11: Andhra Pradesh | M11: 34966693 | N11: 14610410
A12: Odisha | B12: 41974219 | C12: 34970562 | D12: 7003656 | E12: 979 | L12: Odisha | M12: 34970562 | N12: 7003656
A13: Telangana | B13: 35003674 | C13: 21395009 | D13: 13608665 | E13: 988 | L13: Telangana | M13: 21395009 | N13: 13608665
... A37: Lakshadweep | B37: 64473 | C37: 14141 | D37: 50332 | E37: 946 | L37: Lakshadweep | M37: 14141 | N37: 50332

Sheet Geographic_Heat_Map
A1: Geographic Heat Map (India)
A2: Enter your data below. The spelling of state/UT names should be consistent with what you see below. However, you can enter the states/UTs in any order.
A3: State/UT Name | B3: Data
A4: Uttar Pradesh | B4: 199812341
A5: Maharashtra | B5: 112374333
A6: Bihar | B6: 104099452
A7: West Bengal | B7: 91276115
A8: Madhya Pradesh | B8: 72626809
A9: Tamil Nadu | B9: 72147030
A10: Rajasthan | B10: 68548437
A11: Karnataka | B11: 61095297
A12: Gujarat | B12: 60439692
A13: Andhra Pradesh | B13: 49577103
A14: Odisha | B14: 41974219
A15: Telangana | B15: 35003674
... A39: Lakshadweep | B39: 64473
A41: Lowest (Red) to Highest (Green)

Sheet WorldMap
A1: Country | B1: Region | C1: Oil Production in thousands of barrels per day
A2: Nigeria | B2: Africa | C2: 2053
A3: Angola | B3: Africa | C3: 1807
A4: Algeria | B4: Africa | C4: 1579
A5: Egypt | B5: Africa | C5: 691
A6: Libya | B6: Africa | C6: 426
A7: Congo Republic | B7: Africa | C7: 238
A8: Gabon | B8: Africa | C8: 227
A9: South Sudan | B9: Africa | C9: 118
A10: Chad | B10: Africa | C10: 73
A11: Tunisia | B11: Africa | C11: 63
A12: Iran | B12: Asia & Pacific | C12: 4600
A13: China | B13: Asia & Pacific | C13: 3999
... A48: Trinidad & Tobago | B48: South and Central America | C48: 96

Sheet Data
BM13: =JK -> 15000
BL14: =JK -> 15000 | BM14: =JK -> 15000 | BN14: =JK -> 15000 | BO14: =JK -> 15000 | BP14: =JK -> 15000 | BQ14: =JK -> 15000
BI15: =JK -> 15000 | BJ15: =JK -> 15000 | BK15: =JK -> 15000 | BL15: =JK -> 15000 | BM15: =JK -> 15000 | BN15: =JK -> 15000 | BO15: =JK -> 15000 | BP15: =JK -> 15000 | BQ15: =JK -> 15000
BD16: =JK -> 15000 | BE16: =JK -> 15000 | BF16: =JK -> 15000 | BG16: =JK -> 15000 | BH16: =JK -> 15000 | BI16: =JK -> 15000 | BJ16: =JK -> 15000 | BK16: =JK -> 15000 | ... BR16: =JK -> 15000
BD17: =JK -> 15000 | BE17: =JK -> 15000 | BF17: =JK -> 15000 | BG17: =JK -> 15000 | BH17: =JK -> 15000 | BI17: =JK -> 15000 | BJ17: =JK -> 15000 | BK17: =JK -> 15000 | ... BR17: =JK -> 15000
BD18: =JK -> 15000 | BE18: =JK -> 15000 | BF18: =JK -> 15000 | BG18: =JK -> 15000 | BH18: =JK -> 15000 | BI18: =JK -> 15000 | BJ18: =JK -> 15000 | BK18: =JK -> 15000 | ... BS18: =JK -> 15000
BC19: =JK -> 15000 | BD19: =JK -> 15000 | BE19: =JK -> 15000 | BF19: =JK -> 15000 | BG19: =JK -> 15000 | BH19: =JK -> 15000 | BI19: =JK -> 15000 | BJ19: =JK -> 15000 | ... BT19: =JK -> 15000
BB20: =JK -> 15000 | BC20: =JK -> 15000 | BD20: =JK -> 15000 | BE20: =JK -> 15000 | BF20: =JK -> 15000 | BG20: =JK -> 15000 | BH20: =JK -> 15000 | BI20: =JK -> 15000 | ... BU20: =JK -> 15000
AZ21: =JK -> 15000 | BA21: =JK -> 15000 | BB21: =JK -> 15000 | BC21: =JK -> 15000 | BD21: =JK -> 15000 | BE21: =JK -> 15000 | BF21: =JK -> 15000 | BG21: =JK -> 15000 | ... BV21: =JK -> 15000
AZ22: =JK -> 15000 | BA22: =JK -> 15000 | BB22: =JK -> 15000 | BC22: =JK -> 15000 | BD22: =JK -> 15000 | BE22: =JK -> 15000 | BF22: =JK -> 15000 | BG22: =JK -> 15000 | ... BW22: =JK -> 15000
AZ23: =JK -> 15000 | BA23: =JK -> 15000 | BB23: =JK -> 15000 | BC23: =JK -> 15000 | BD23: =JK -> 15000 | BE23: =JK -> 15000 | BF23: =JK -> 15000 | BG23: =JK -> 15000 | ... BX23: =JK -> 15000
AZ24: =JK -> 15000 | BA24: =JK -> 15000 | BB24: =JK -> 15000 | BC24: =JK -> 15000 | BD24: =JK -> 15000 | BE24: =JK -> 15000 | BF24: =JK -> 15000 | BG24: =JK -> 15000 | ... BY24: =JK -> 15000
AZ25: =JK -> 15000 | BA25: =JK -> 15000 | BB25: =JK -> 15000 | BC25: =JK -> 15000 | BD25: =JK -> 15000 | BE25: =JK -> 15000 | BF25: =JK -> 15000 | BG25: =JK -> 15000 | ... BY25: =JK -> 15000 | CO25: =JK -> 15000
BD26: =JK -> 15000 | BE26: =JK -> 15000 | BF26: =JK -> 15000 | BG26: =JK -> 15000 | BH26: =JK -> 15000 | BI26: =JK -> 15000 | BJ26: =JK -> 15000 | BK26: =JK -> 15000 | ... BY26: =JK -> 15000 | CO26: =JK -> 15000 | CP26: =JK -> 15000
BD27: =JK -> 15000 | BE27: =JK -> 15000 | BF27: =JK -> 15000 | BG27: =JK -> 15000 | BH27: =JK -> 15000 | BI27: =JK -> 15000 | BJ27: =JK -> 15000 | BK27: =JK -> 15000 | ... BZ27: =JK -> 15000 | CL27: =JK -> 15000 | CM27: =JK -> 15000 | CN27: =JK -> 15000 | CO27: =JK -> 15000 | CP27: =JK -> 15000 | CQ27: =JK -> 15000 | CR27: =JK -> 15000
BE28: =JK -> 15000 | BF28: =JK -> 15000 | BG28: =JK -> 15000 | BH28: =JK -> 15000 | BI28: =JK -> 15000 | BJ28: =JK -> 15000 | BK28: =JK -> 15000 | BL28: =JK -> 15000 | ... BZ28: =JK -> 15000 | CJ28: =JK -> 15000 | CK28: =JK -> 15000 | CL28: =JK -> 15000 | CM28: =JK -> 15000 | CN28: =JK -> 15000 | CO28: =JK -> 15000 | CP28: =JK -> 15000 | CQ28: =JK -> 15000 | ... CT28: =JK -> 15000
BF29: =JK -> 15000 | BG29: =JK -> 15000 | BH29: =JK -> 15000 | BI29: =JK -> 15000 | BJ29: =JK -> 15000 | BK29: =JK -> 15000 | BL29: =JK -> 15000 | BM29: =JK -> 15000 | ... CC29: =JK -> 15000 | CI29: =JK -> 15000 | CJ29: =JK -> 15000 | CK29: =JK -> 15000 | CL29: =JK -> 15000 | CM29: =JK -> 15000 | CN29: =JK -> 15000 | CO29: =JK -> 15000 | CP29: =JK -> 15000 | ... CU29: =JK -> 15000
BG30: =JK -> 15000 | BH30: =JK -> 15000 | BI30: =JK -> 15000 | BJ30: =JK -> 15000 | BK30: =JK -> 15000 | BL30: =JK -> 15000 | BM30: =JK -> 15000 | BN30: =JK -> 15000 | ... CC30: =JK -> 15000 | CH30: =JK -> 15000 | CI30: =JK -> 15000 | CJ30: =JK -> 15000 | CK30: =JK -> 15000 | CL30: =JK -> 15000 | CM30: =JK -> 15000 | CN30: =JK -> 15000 | CO30: =JK -> 15000 | ... CU30: =JK -> 15000
BG31: =JK -> 15000 | BH31: =JK -> 15000 | BI31: =JK -> 15000 | BJ31: =JK -> 15000 | BK31: =JK -> 15000 | BL31: =JK -> 15000 | BM31: =JK -> 15000 | BN31: =JK -> 15000 | ... CC31: =JK -> 15000 | CH31: =JK -> 15000 | CI31: =JK -> 15000 | CJ31: =JK -> 15000 | CK31: =JK -> 15000 | CL31: =JK -> 15000 | CM31: =JK -> 15000 | CN31: =JK -> 15000 | CO31: =JK -> 15000 | ... CU31: =JK -> 15000
BG32: =JK -> 15000 | BH32: =JK -> 15000 | BI32: =JK -> 15000 | BJ32: =JK -> 15000 | BK32: =JK -> 15000 | BL32: =JK -> 15000 | BM32: =JK -> 15000 | BN32: =JK -> 15000 | ... CU32: =JK -> 15000
BG33: =JK -> 15000 | BH33: =JK -> 15000 | BI33: =JK -> 15000 | BJ33: =JK -> 15000 | BK33: =JK -> 15000 | BL33: =JK -> 15000 | BM33: =JK -> 15000 | BN33: =JK -> 15000 | ... CU33: =JK -> 15000
BI34: =JK -> 15000 | BJ34: =JK -> 15000 | BK34: =JK -> 15000 | BL34: =JK -> 15000 | BM34: =JK -> 15000 | BN34: =JK -> 15000 | BO34: =JK -> 15000 | BP34: =JK -> 15000 | ... CU34: =JK -> 15000
BI35: =JK -> 15000 | BJ35: =JK -> 15000 | BK35: =JK -> 15000 | BL35: =JK -> 15000 | BM35: =JK -> 15000 | BN35: =JK -> 15000 | BO35: =JK -> 15000 | BP35: =JK -> 15000 | ... CU35: =JK -> 15000
BI36: =JK -> 15000 | BJ36: =JK -> 15000 | BK36: =JK -> 15000 | BL36: =JK -> 15000 | BM36: =JK -> 15000 | BN36: =JK -> 15000 | BO36: =JK -> 15000 | BP36: =JK -> 15000 | ... CU36: =JK -> 15000
BI37: =JK -> 15000 | BJ37: =JK -> 15000 | BK37: =JK -> 15000 | BL37: =JK -> 15000 | BM37: =JK -> 15000 | BN37: =JK -> 15000 | BO37: =JK -> 15000 | BP37: =JK -> 15000 | ... CU37: =JK -> 15000
BH38: =JK -> 15000 | BI38: =JK -> 15000 | BJ38: =JK -> 15000 | BK38: =JK -> 15000 | BL38: =JK -> 15000 | BM38: =JK -> 15000 | BN38: =JK -> 15000 | BO38: =JK -> 15000 | ... CT38: =JK -> 15000
BG39: =JK -> 15000 | BH39: =JK -> 15000 | BI39: =JK -> 15000 | BJ39: =JK -> 15000 | BK39: =JK -> 15000 | BL39: =JK -> 15000 | BM39: =JK -> 15000 | BN39: =JK -> 15000 | ... CT39: =JK -> 15000
BG40: =JK -> 15000 | BH40: =JK -> 15000 | BI40: =JK -> 15000 | BJ40: =JK -> 15000 | BK40: =JK -> 15000 | BL40: =JK -> 15000 | BM40: =JK -> 15000 | BN40: =JK -> 15000 | ... CS40: =JK -> 15000
BE41: =JK -> 15000 | BF41: =JK -> 15000 | BG41: =JK -> 15000 | BH41: =JK -> 15000 | BI41: =JK -> 15000 | BJ41: =JK -> 15000 | BK41: =JK -> 15000 | BL41: =JK -> 15000 | ... CR41: =JK -> 15000
BE42: =JK -> 15000 | BF42: =JK -> 15000 | BG42: =JK -> 15000 | BH42: =JK -> 15000 | BI42: =JK -> 15000 | BJ42: =JK -> 15000 | BK42: =JK -> 15000 | BL42: =JK -> 15000 | ... CQ42: =JK -> 15000
BE43: =JK -> 15000 | BF43: =JK -> 15000 | BG43: =JK -> 15000 | BH43: =JK -> 15000 | BI43: =JK -> 15000 | BJ43: =JK -> 15000 | BK43: =JK -> 15000 | BL43: =JK -> 15000 | ... CQ43: =JK -> 15000
BE44: =JK -> 15000 | BF44: =JK -> 15000 | BG44: =JK -> 15000 | BH44: =JK -> 15000 | BI44: =JK -> 15000 | BJ44: =JK -> 15000 | BK44: =JK -> 15000 | BL44: =JK -> 15000 | ... CQ44: =JK -> 15000
BE45: =JK -> 15000 | BF45: =JK -> 15000 | BG45: =JK -> 15000 | BH45: =JK -> 15000 | BI45: =JK -> 15000 | BJ45: =JK -> 15000 | BK45: =JK -> 15000 | BL45: =JK -> 15000 | ... CQ45: =JK -> 15000
BE46: =JK -> 15000 | BF46: =JK -> 15000 | BG46: =JK -> 15000 | BH46: =JK -> 15000 | BI46: =JK -> 15000 | BJ46: =JK -> 15000 | BK46: =JK -> 15000 | BL46: =JK -> 15000 | ... CP46: =JK -> 15000
BE47: =JK -> 15000 | BF47: =JK -> 15000 | BG47: =JK -> 15000 | BH47: =JK -> 15000 | BI47: =JK -> 15000 | BJ47: =JK -> 15000 | BK47: =JK -> 15000 | BL47: =JK -> 15000 | ... CP47: =JK -> 15000
BE48: =JK -> 15000 | BF48: =JK -> 15000 | BG48: =JK -> 15000 | BH48: =JK -> 15000 | BI48: =JK -> 15000 | BJ48: =JK -> 15000 | BK48: =JK -> 15000 | BL48: =JK -> 15000 | ... CM48: =JK -> 15000
BF49: =JK -> 15000 | BG49: =JK -> 15000 | BH49: =JK -> 15000 | BI49: =JK -> 15000 | BJ49: =JK -> 15000 | BK49: =JK -> 15000 | BL49: =JK -> 15000 | BM49: =JK -> 15000 | ... CM49: =JK -> 15000
BF50: =JK -> 15000 | BG50: =JK -> 15000 | BH50: =JK -> 15000 | BI50: =JK -> 15000 | BJ50: =JK -> 15000 | BK50: =JK -> 15000 | BL50: =JK -> 15000 | BM50: =JK -> 15000 | ... CN50: =JK -> 15000
BF51: =JK -> 15000 | BG51: =JK -> 15000 | BH51: =JK -> 15000 | BI51: =JK -> 15000 | BJ51: =JK -> 15000 | BK51: =JK -> 15000 | BL51: =JK -> 15000 | BM51: =JK -> 15000 | ... CN51: =JK -> 15000
BF52: =JK -> 15000 | BG52: =JK -> 15000 | BH52: =JK -> 15000 | BI52: =JK -> 15000 | BJ52: =JK -> 15000 | BK52: =JK -> 15000 | BL52: =JK -> 15000 | BM52: =JK -> 15000 | ... CN52: =JK -> 15000
...
